BEGIN:VCALENDAR
VERSION:2.0
PRODID:-//Lane Events Center - ECPv6.15.20//NONSGML v1.0//EN
CALSCALE:GREGORIAN
METHOD:PUBLISH
X-ORIGINAL-URL:https://www.laneeventscenter.org
X-WR-CALDESC:Events for Lane Events Center
REFRESH-INTERVAL;VALUE=DURATION:PT1H
X-Robots-Tag:noindex
X-PUBLISHED-TTL:PT1H
BEGIN:VTIMEZONE
TZID:America/Los_Angeles
BEGIN:DAYLIGHT
TZOFFSETFROM:-0800
TZOFFSETTO:-0700
TZNAME:PDT
DTSTART:20250309T100000
END:DAYLIGHT
BEGIN:STANDARD
TZOFFSETFROM:-0700
TZOFFSETTO:-0800
TZNAME:PST
DTSTART:20251102T090000
END:STANDARD
BEGIN:DAYLIGHT
TZOFFSETFROM:-0800
TZOFFSETTO:-0700
TZNAME:PDT
DTSTART:20260308T100000
END:DAYLIGHT
BEGIN:STANDARD
TZOFFSETFROM:-0700
TZOFFSETTO:-0800
TZNAME:PST
DTSTART:20261101T090000
END:STANDARD
BEGIN:DAYLIGHT
TZOFFSETFROM:-0800
TZOFFSETTO:-0700
TZNAME:PDT
DTSTART:20270314T100000
END:DAYLIGHT
BEGIN:STANDARD
TZOFFSETFROM:-0700
TZOFFSETTO:-0800
TZNAME:PST
DTSTART:20271107T090000
END:STANDARD
END:VTIMEZONE
BEGIN:VEVENT
DTSTART;TZID=America/Los_Angeles:20260418T090000
DTEND;TZID=America/Los_Angeles:20260419T160000
DTSTAMP:20260416T231450
CREATED:20251105T000000Z
LAST-MODIFIED:20260320T210942Z
UID:10000085-1776502800-1776614400@www.laneeventscenter.org
SUMMARY:Mountain Mist Cat Fanciers Show
DESCRIPTION:Mountain Mist Cat Fanciers proudly presents….\n“Don’t Rain on Our Purrade”\nCat shows are a feline lover’s paradise\, where the beauty\, grace\, and charm of cats take center stage. Cat enthusiasts from all over gather to showcase their beloved feline companions in these delightful exhibitions. With a variety of cat breeds on display\, visitors can marvel at the diversity of these elegant creatures\, each exuding their unique personalities and traits. \n  \nApril 18 & 19\, 2026 \n9:00am – 4:00pm \n\nCat costume contest both days at noon!\nSpectators Choice Award contest!\nLarge raffle!\nCome pet “Mus” the Sphynx!!\n\n  \nADMISSION: \nAdults: 13-59……$10.00 \nAges:  6-12…….$8.00 \nSeniors 65+…..$8.00 \nFamily 4-pack: $25.00 \nAges 5 & Under:  FREE \n  \nFor more information\, please visit the website: https://cfa.org/event/mountain-mist-cat-fanciers/ \n 
URL:https://www.laneeventscenter.org/event/mountain-mist-cat-fanciers-show/
LOCATION:Lane Events Center: Auditorium\, 796 W. 13th Avenue\, Eugene\, OR\, 97402\, United States
CATEGORIES:Animals,Exhibit,Family Event
ATTACH;FMTTYPE=image/jpeg:https://www.laneeventscenter.org/wp-content/uploads/2025/11/CFA-logo.jpg
ORGANIZER;CN="Mountain Mist Cat Fanciers":MAILTO:oddreye@msn.com
GEO:44.04505;-123.10461
X-APPLE-STRUCTURED-LOCATION;VALUE=URI;X-ADDRESS=Lane Events Center: Auditorium 796 W. 13th Avenue Eugene OR 97402 United States;X-APPLE-RADIUS=500;X-TITLE=796 W. 13th Avenue:geo:-123.10461,44.04505
END:VEVENT
BEGIN:VEVENT
DTSTART;TZID=America/Los_Angeles:20260501T100000
DTEND;TZID=America/Los_Angeles:20260502T170000
DTSTAMP:20260416T231450
CREATED:20260114T220504Z
LAST-MODIFIED:20260331T210220Z
UID:10000102-1777629600-1777741200@www.laneeventscenter.org
SUMMARY:Stories in Stitches - A Quilt Show
DESCRIPTION:Emerald Valley Quilters presents…Stories in Stitches\, A Quilt Show\nFeaturing Pamela Reim\n  \nMay 1-2\, 2026 \nFriday & Saturday\, 10am to 5pm \n\nVendors\nSmall Quilt Auction\nOver 200 quilts\nCharity Build a Block\nDemonstrations\nRaffle baskets\n\n  \nADMISSION: \nGeneral – $10.00 \nSeniors – $8.00 \nTwo-Day pass – $15.00 \nKids 12 & under – FREE \n  \nLook for us on Facebook and Instagram!
URL:https://www.laneeventscenter.org/event/stitch-happens-quilt-show/
LOCATION:Lane Events Center: Performance Hall\, 796 W. 13th Avenue\, Eugene\, OR\, 97402\, United States
CATEGORIES:Exhibit,Family Event
ATTACH;FMTTYPE=image/jpeg:https://www.laneeventscenter.org/wp-content/uploads/2026/01/2026-Quilt-Show.jpg
ORGANIZER;CN="Emerald Valley Quilters":MAILTO:emeraldvalleyquilters@gmail.com
GEO:44.0443611;--123.1069638
X-APPLE-STRUCTURED-LOCATION;VALUE=URI;X-ADDRESS=Lane Events Center: Performance Hall 796 W. 13th Avenue Eugene OR 97402 United States;X-APPLE-RADIUS=500;X-TITLE=796 W. 13th Avenue:geo:--123.1069638,44.0443611
END:VEVENT
END:VCALENDAR