BEGIN:VCALENDAR
VERSION:2.0
PRODID:-//Lane Events Center - ECPv6.15.20//NONSGML v1.0//EN
CALSCALE:GREGORIAN
METHOD:PUBLISH
X-WR-CALNAME:Lane Events Center
X-ORIGINAL-URL:https://www.laneeventscenter.org
X-WR-CALDESC:Events for Lane Events Center
REFRESH-INTERVAL;VALUE=DURATION:PT1H
X-Robots-Tag:noindex
X-PUBLISHED-TTL:PT1H
BEGIN:VTIMEZONE
TZID:America/Los_Angeles
BEGIN:DAYLIGHT
TZOFFSETFROM:-0800
TZOFFSETTO:-0700
TZNAME:PDT
DTSTART:20250309T100000
END:DAYLIGHT
BEGIN:STANDARD
TZOFFSETFROM:-0700
TZOFFSETTO:-0800
TZNAME:PST
DTSTART:20251102T090000
END:STANDARD
BEGIN:DAYLIGHT
TZOFFSETFROM:-0800
TZOFFSETTO:-0700
TZNAME:PDT
DTSTART:20260308T100000
END:DAYLIGHT
BEGIN:STANDARD
TZOFFSETFROM:-0700
TZOFFSETTO:-0800
TZNAME:PST
DTSTART:20261101T090000
END:STANDARD
BEGIN:DAYLIGHT
TZOFFSETFROM:-0800
TZOFFSETTO:-0700
TZNAME:PDT
DTSTART:20270314T100000
END:DAYLIGHT
BEGIN:STANDARD
TZOFFSETFROM:-0700
TZOFFSETTO:-0800
TZNAME:PST
DTSTART:20271107T090000
END:STANDARD
END:VTIMEZONE
BEGIN:VEVENT
DTSTART;VALUE=DATE:20260627
DTEND;VALUE=DATE:20260628
DTSTAMP:20260420T041404
CREATED:20260127T214531Z
LAST-MODIFIED:20260316T173942Z
UID:10000111-1782518400-1782604799@www.laneeventscenter.org
SUMMARY:Eugene Pride
DESCRIPTION:A celebration of all that makes our community great\, featuring:\n\n\n– Live entertainment\n\n\n– Delicious food and drinks\n\n\n– Community partners\n\n\n– Local vendors\n\n\n– Family activities\n\n\n– and more!\n\n\n \n\n\nSaturday\, June 27\, 2026\n\n\nFor more information\, please visit the website at: https://www.eugenepride.org/
URL:https://www.laneeventscenter.org/event/eugene-pride-2/
LOCATION:Lane Events Center: Convention Center\, 796 W. 13th Avenue\, Eugene\, OR\, 97402\, United States
CATEGORIES:Festival,Performance
ATTACH;FMTTYPE=image/png:https://www.laneeventscenter.org/wp-content/uploads/2025/05/Eugene-Pride.png
GEO:44.0438;-123.10439
X-APPLE-STRUCTURED-LOCATION;VALUE=URI;X-ADDRESS=Lane Events Center: Convention Center 796 W. 13th Avenue Eugene OR 97402 United States;X-APPLE-RADIUS=500;X-TITLE=796 W. 13th Avenue:geo:-123.10439,44.0438
END:VEVENT
END:VCALENDAR