BEGIN:VCALENDAR
VERSION:2.0
PRODID:-//Lane Events Center - ECPv6.15.20//NONSGML v1.0//EN
CALSCALE:GREGORIAN
METHOD:PUBLISH
X-WR-CALNAME:Lane Events Center
X-ORIGINAL-URL:https://www.laneeventscenter.org
X-WR-CALDESC:Events for Lane Events Center
REFRESH-INTERVAL;VALUE=DURATION:PT1H
X-Robots-Tag:noindex
X-PUBLISHED-TTL:PT1H
BEGIN:VTIMEZONE
TZID:America/Los_Angeles
BEGIN:DAYLIGHT
TZOFFSETFROM:-0800
TZOFFSETTO:-0700
TZNAME:PDT
DTSTART:20240310T100000
END:DAYLIGHT
BEGIN:STANDARD
TZOFFSETFROM:-0700
TZOFFSETTO:-0800
TZNAME:PST
DTSTART:20241103T090000
END:STANDARD
BEGIN:DAYLIGHT
TZOFFSETFROM:-0800
TZOFFSETTO:-0700
TZNAME:PDT
DTSTART:20250309T100000
END:DAYLIGHT
BEGIN:STANDARD
TZOFFSETFROM:-0700
TZOFFSETTO:-0800
TZNAME:PST
DTSTART:20251102T090000
END:STANDARD
BEGIN:DAYLIGHT
TZOFFSETFROM:-0800
TZOFFSETTO:-0700
TZNAME:PDT
DTSTART:20260308T100000
END:DAYLIGHT
BEGIN:STANDARD
TZOFFSETFROM:-0700
TZOFFSETTO:-0800
TZNAME:PST
DTSTART:20261101T090000
END:STANDARD
BEGIN:DAYLIGHT
TZOFFSETFROM:-0800
TZOFFSETTO:-0700
TZNAME:PDT
DTSTART:20270314T100000
END:DAYLIGHT
BEGIN:STANDARD
TZOFFSETFROM:-0700
TZOFFSETTO:-0800
TZNAME:PST
DTSTART:20271107T090000
END:STANDARD
END:VTIMEZONE
BEGIN:VEVENT
DTSTART;TZID=America/Los_Angeles:20260313T120000
DTEND;TZID=America/Los_Angeles:20260315T170000
DTSTAMP:20260424T031040
CREATED:20251031T182217Z
LAST-MODIFIED:20260126T234017Z
UID:10000083-1773403200-1773594000@www.laneeventscenter.org
SUMMARY:Lane County Home & Garden Show
DESCRIPTION:The Lane County Home & Garden Show will showcase hundreds of exhibits for the home and garden! Explore over two acres of exhibits by home building & remodeling and landscaping & gardening experts. Meet the area’s very best contractors who can help create your dream home and yard!\n\nSHOW HOURS:\n\nFriday - 12noon-9pm\nSaturday - 10am-8pm\nSunday - 10am-5pm\n  \nFREE Admission with 3 Cans of Food or $5.00 at the Door\nFREE Parking
URL:https://www.laneeventscenter.org/event/lane-county-home-garden-show/
LOCATION:Lane Events Center: Convention Center\, 796 W. 13th Avenue\, Eugene\, OR\, 97402\, United States
CATEGORIES:Flower & Garden Show,Home Improvement Show
ATTACH;FMTTYPE=image/jpeg:https://www.laneeventscenter.org/wp-content/uploads/2025/10/Spring-Home-Garden-show-2026-scaled.jpg
GEO:44.0438;-123.10439
X-APPLE-STRUCTURED-LOCATION;VALUE=URI;X-ADDRESS=Lane Events Center: Convention Center 796 W. 13th Avenue Eugene OR 97402 United States;X-APPLE-RADIUS=500;X-TITLE=796 W. 13th Avenue:geo:-123.10439,44.0438
END:VEVENT
BEGIN:VEVENT
DTSTART;VALUE=DATE:20260207
DTEND;VALUE=DATE:20260208
DTSTAMP:20260424T031040
CREATED:20251119T224700Z
LAST-MODIFIED:20260128T202401Z
UID:10000091-1770422400-1770508799@www.laneeventscenter.org
SUMMARY:Native Plant Sale
DESCRIPTION:Hosted by Upper Willamette Soil & Water Conservation District \nInterested in taking next steps to bring conservation into your yard and garden? We are hosting a Native Plant Sale on Saturday\, February 7th\, 2026\, at the Lane Events Center Auditorium\, featuring a wide variety of locally native species and seeds. Plants must be pre-ordered through our online store. When you purchase plants you will be asked to sign up for a 15-minute time slot on February 7th to come pick up your plants. The online store will go live in early December. \nFor more information\, please visit this website: https://uwswcd.org/upper-willamette-swcd-native-plant-sale/# \n 
URL:https://www.laneeventscenter.org/event/native-plant-sale/
LOCATION:Lane Events Center: Auditorium\, 796 W. 13th Avenue\, Eugene\, OR\, 97402\, United States
CATEGORIES:Sale
ATTACH;FMTTYPE=image/png:https://www.laneeventscenter.org/wp-content/uploads/2025/11/UWSWCD-1.png
GEO:44.04505;-123.10461
X-APPLE-STRUCTURED-LOCATION;VALUE=URI;X-ADDRESS=Lane Events Center: Auditorium 796 W. 13th Avenue Eugene OR 97402 United States;X-APPLE-RADIUS=500;X-TITLE=796 W. 13th Avenue:geo:-123.10461,44.04505
END:VEVENT
BEGIN:VEVENT
DTSTART;TZID=America/Los_Angeles:20250510T090000
DTEND;TZID=America/Los_Angeles:20250510T140000
DTSTAMP:20260424T031040
CREATED:20250424T201017Z
LAST-MODIFIED:20250424T201706Z
UID:10000023-1746867600-1746885600@www.laneeventscenter.org
SUMMARY:31st Annual Willamette Valley Hardy Plant Sale
DESCRIPTION:Huge variety of usual and unusual plants! \nAdmission: FREE
URL:https://www.laneeventscenter.org/event/31st-annual-willamette-valley-hardy-plant-sale/
LOCATION:OR
CATEGORIES:Sale
ATTACH;FMTTYPE=image/jpeg:https://www.laneeventscenter.org/wp-content/uploads/2025/04/download.jpg
ORGANIZER;CN="The Hardy Plant Group":MAILTO:info@thehardyplantgroup.org
END:VEVENT
BEGIN:VEVENT
DTSTART;TZID=America/Los_Angeles:20250426T100000
DTEND;TZID=America/Los_Angeles:20250426T150000
DTSTAMP:20260424T031040
CREATED:20250421T182423Z
LAST-MODIFIED:20250424T202350Z
UID:10000017-1745661600-1745679600@www.laneeventscenter.org
SUMMARY:Master Gardener Plant Sale
DESCRIPTION:Hours: 10:00AM – 3:00PM\nAdmission: FREE! \nThousands of plants!
URL:https://www.laneeventscenter.org/event/master-gardener-plant-sale/
LOCATION:Lane Events Center: Expo Halls\, 796 W. 13th Avenue\, Eugene\, OR\, 97402\, United States
CATEGORIES:Sale
ATTACH;FMTTYPE=image/jpeg:https://www.laneeventscenter.org/wp-content/uploads/2025/04/master-gardener-plant-sale.jpg
ORGANIZER;CN="Lane County Master Gardener Association":MAILTO:lane.extension@oregonstate.edu
GEO:44.04304;-123.10606
X-APPLE-STRUCTURED-LOCATION;VALUE=URI;X-ADDRESS=Lane Events Center: Expo Halls 796 W. 13th Avenue Eugene OR 97402 United States;X-APPLE-RADIUS=500;X-TITLE=796 W. 13th Avenue:geo:-123.10606,44.04304
END:VEVENT
END:VCALENDAR