BEGIN:VCALENDAR
VERSION:2.0
PRODID:-//Lane Events Center - ECPv6.15.20//NONSGML v1.0//EN
CALSCALE:GREGORIAN
METHOD:PUBLISH
X-ORIGINAL-URL:https://www.laneeventscenter.org
X-WR-CALDESC:Events for Lane Events Center
REFRESH-INTERVAL;VALUE=DURATION:PT1H
X-Robots-Tag:noindex
X-PUBLISHED-TTL:PT1H
BEGIN:VTIMEZONE
TZID:America/Los_Angeles
BEGIN:DAYLIGHT
TZOFFSETFROM:-0800
TZOFFSETTO:-0700
TZNAME:PDT
DTSTART:20250309T100000
END:DAYLIGHT
BEGIN:STANDARD
TZOFFSETFROM:-0700
TZOFFSETTO:-0800
TZNAME:PST
DTSTART:20251102T090000
END:STANDARD
BEGIN:DAYLIGHT
TZOFFSETFROM:-0800
TZOFFSETTO:-0700
TZNAME:PDT
DTSTART:20260308T100000
END:DAYLIGHT
BEGIN:STANDARD
TZOFFSETFROM:-0700
TZOFFSETTO:-0800
TZNAME:PST
DTSTART:20261101T090000
END:STANDARD
BEGIN:DAYLIGHT
TZOFFSETFROM:-0800
TZOFFSETTO:-0700
TZNAME:PDT
DTSTART:20270314T100000
END:DAYLIGHT
BEGIN:STANDARD
TZOFFSETFROM:-0700
TZOFFSETTO:-0800
TZNAME:PST
DTSTART:20271107T090000
END:STANDARD
END:VTIMEZONE
BEGIN:VEVENT
DTSTART;TZID=America/Los_Angeles:20260207T100000
DTEND;TZID=America/Los_Angeles:20260208T160000
DTSTAMP:20260424T014811
CREATED:20251030T184248Z
LAST-MODIFIED:20251030T203150Z
UID:10000080-1770458400-1770566400@www.laneeventscenter.org
SUMMARY:Love in Oregon Wedding Show
DESCRIPTION:The Ultimate Eugene Wedding Showcase \nJoin us for Love in Oregon’s Eugene wedding showcase and start planning your perfect day! Connect with the area’s top vendors\, gather inspiration\, and make progress on your big day – all in one place. It’s the perfect place to get hands-on with your planning and meeting professionals you can trust! \nFebruary 7\, 2026 – 10am-5pm \nFebruary 8\, 2026 – 10am-4pm \n  \nTo purchase tickets\, please visit website: https://www.loveinoregon.com/eugene-expo
URL:https://www.laneeventscenter.org/event/love-in-oregon-wedding-show/
LOCATION:Lane Events Center: Performance Hall\, 796 W. 13th Avenue\, Eugene\, OR\, 97402\, United States
CATEGORIES:Wedding Show
ATTACH;FMTTYPE=image/jpeg:https://www.laneeventscenter.org/wp-content/uploads/2025/10/Love-in-Oregon.jpg
ORGANIZER;CN="Love in Lane County":MAILTO:info@loveinoregon.com
GEO:44.0443611;--123.1069638
X-APPLE-STRUCTURED-LOCATION;VALUE=URI;X-ADDRESS=Lane Events Center: Performance Hall 796 W. 13th Avenue Eugene OR 97402 United States;X-APPLE-RADIUS=500;X-TITLE=796 W. 13th Avenue:geo:--123.1069638,44.0443611
END:VEVENT
END:VCALENDAR