BEGIN:VCALENDAR
VERSION:2.0
PRODID:-//Lane Events Center - ECPv6.15.20//NONSGML v1.0//EN
CALSCALE:GREGORIAN
METHOD:PUBLISH
X-WR-CALNAME:Lane Events Center
X-ORIGINAL-URL:https://www.laneeventscenter.org
X-WR-CALDESC:Events for Lane Events Center
REFRESH-INTERVAL;VALUE=DURATION:PT1H
X-Robots-Tag:noindex
X-PUBLISHED-TTL:PT1H
BEGIN:VTIMEZONE
TZID:America/Los_Angeles
BEGIN:DAYLIGHT
TZOFFSETFROM:-0800
TZOFFSETTO:-0700
TZNAME:PDT
DTSTART:20250309T100000
END:DAYLIGHT
BEGIN:STANDARD
TZOFFSETFROM:-0700
TZOFFSETTO:-0800
TZNAME:PST
DTSTART:20251102T090000
END:STANDARD
BEGIN:DAYLIGHT
TZOFFSETFROM:-0800
TZOFFSETTO:-0700
TZNAME:PDT
DTSTART:20260308T100000
END:DAYLIGHT
BEGIN:STANDARD
TZOFFSETFROM:-0700
TZOFFSETTO:-0800
TZNAME:PST
DTSTART:20261101T090000
END:STANDARD
BEGIN:DAYLIGHT
TZOFFSETFROM:-0800
TZOFFSETTO:-0700
TZNAME:PDT
DTSTART:20270314T100000
END:DAYLIGHT
BEGIN:STANDARD
TZOFFSETFROM:-0700
TZOFFSETTO:-0800
TZNAME:PST
DTSTART:20271107T090000
END:STANDARD
END:VTIMEZONE
BEGIN:VEVENT
DTSTART;TZID=America/Los_Angeles:20260130T120000
DTEND;TZID=America/Los_Angeles:20260201T170000
DTSTAMP:20260424T030906
CREATED:20251119T170859Z
LAST-MODIFIED:20251212T211813Z
UID:10000090-1769774400-1769965200@www.laneeventscenter.org
SUMMARY:KVAL Eugene Sportsmen's & Outdoor Recreation Show
DESCRIPTION:Presented by Bi-Mart…. \nStart your outdoor adventures at the Eugene Show filled with hundreds of exhibits representing fishing\, hunting\, camping\, boating\, off-roading\, RV’ing\, ATV’ing\, cycling\, kayaking\, hiking\, climbing\, scuba diving\, and their supporting advocacy groups and governmental agencies. Our featured attractions include the live “Eagles Have Landed” presentations\, the new “Forager’s Bounty” for crafters of locally picked\, processed and packaged provisions\, expanded Agent of the Wild Photography Contests and more to be announced! \n  \nJanuary 30-February 1\, 2026 \n  \nHOURS: \nFriday\, 12p-7p \nSaturday\, 10a-7p \nSunday\, 10a-5p \n  \nADMISSION: \nSeven Feathers FREE SENIOR Friday Night! \n\nSeniors 65 and up admitted FREE from 3-7pm\nFriday courtesy of Seven Feathers Casino Resort\n\n  \nAdults – $9.00 \n\n$7.00 with Bi-Mart $2.00 off coupon….good for FRIDAY & SUNDAY ONLY\n\nChildren\, ages 6-11 – $1.00 \nChildren\, ages 5 and under – FREE \n 
URL:https://www.laneeventscenter.org/event/kval-sportsmens-outdoor-recreation-show/
LOCATION:Lane Events Center: Convention Center\, 796 W. 13th Avenue\, Eugene\, OR\, 97402\, United States
CATEGORIES:Expo
ATTACH;FMTTYPE=image/png:https://www.laneeventscenter.org/wp-content/uploads/2025/11/EXPOSURE-COLOR-BLK-LOGO.png
ORGANIZER;CN="ExpoSure Shows":MAILTO:exposure@roadrunner.com
GEO:44.0438;-123.10439
X-APPLE-STRUCTURED-LOCATION;VALUE=URI;X-ADDRESS=Lane Events Center: Convention Center 796 W. 13th Avenue Eugene OR 97402 United States;X-APPLE-RADIUS=500;X-TITLE=796 W. 13th Avenue:geo:-123.10439,44.0438
END:VEVENT
END:VCALENDAR